BEGIN:VCALENDAR
VERSION:2.0
PRODID:-//Kasandra for LC - ECPv6.2.8.1//NONSGML v1.0//EN
CALSCALE:GREGORIAN
METHOD:PUBLISH
X-WR-CALNAME:Kasandra for LC
X-ORIGINAL-URL:https://kasandraforlascruces.com
X-WR-CALDESC:Events for Kasandra for LC
REFRESH-INTERVAL;VALUE=DURATION:PT1H
X-Robots-Tag:noindex
X-PUBLISHED-TTL:PT1H
BEGIN:VTIMEZONE
TZID:UTC
BEGIN:STANDARD
TZOFFSETFROM:+0000
TZOFFSETTO:+0000
TZNAME:UTC
DTSTART:20230101T000000
END:STANDARD
END:VTIMEZONE
BEGIN:VEVENT
DTSTART;TZID=UTC:20231018T083000
DTEND;TZID=UTC:20231018T100000
DTSTAMP:20260425T131147
CREATED:20230927T184048Z
LAST-MODIFIED:20230927T184048Z
UID:1171-1697617800-1697623200@kasandraforlascruces.com
SUMMARY:KTAL Community  Radio101.5 FM / Live Stream
DESCRIPTION:Broadcasting Live interview with mayoral candidates
URL:https://kasandraforlascruces.com/event/ktal-community-radio101-5-fm-live-stream/
END:VEVENT
BEGIN:VEVENT
DTSTART;TZID=UTC:20231013T180000
DTEND;TZID=UTC:20231013T200000
DTSTAMP:20260425T131147
CREATED:20230927T184002Z
LAST-MODIFIED:20230927T184002Z
UID:1169-1697220000-1697227200@kasandraforlascruces.com
SUMMARY:Meet and Greet in Sonoma Ranch Area
DESCRIPTION:Call 575-323-0456 for address
URL:https://kasandraforlascruces.com/event/meet-and-greet-in-sonoma-ranch-area/
CATEGORIES:Meet and Greet
END:VEVENT
BEGIN:VEVENT
DTSTART;TZID=UTC:20231011T183000
DTEND;TZID=UTC:20231011T203000
DTSTAMP:20260425T131147
CREATED:20230927T183846Z
LAST-MODIFIED:20230927T183846Z
UID:1166-1697049000-1697056200@kasandraforlascruces.com
SUMMARY:Candidate Forum
DESCRIPTION:
URL:https://kasandraforlascruces.com/event/candidate-forum-3/
LOCATION:Temple Beth El\, 3980 Sonoma Springs Ave\, Las Cruces\, NM\, 88011\, United States
CATEGORIES:Forum
END:VEVENT
BEGIN:VEVENT
DTSTART;TZID=UTC:20231010T180000
DTEND;TZID=UTC:20231010T200000
DTSTAMP:20260425T131147
CREATED:20230927T183710Z
LAST-MODIFIED:20230927T183710Z
UID:1162-1696960800-1696968000@kasandraforlascruces.com
SUMMARY:Candidate Forum
DESCRIPTION:
URL:https://kasandraforlascruces.com/event/candidate-forum-2/
LOCATION:Holy Family Catholic Church\, 702 Parker Road\, Las Cruces\, NM\, 88005\, United States
CATEGORIES:Forum
ORGANIZER;CN="Federation of Democratic Women of Do%C3%B1a Ana County":MAILTO:fdwdac@gmail.com
END:VEVENT
BEGIN:VEVENT
DTSTART;TZID=UTC:20231003T180000
DTEND;TZID=UTC:20231003T200000
DTSTAMP:20260425T131147
CREATED:20230927T183302Z
LAST-MODIFIED:20230927T183720Z
UID:1156-1696356000-1696363200@kasandraforlascruces.com
SUMMARY:Candidate Forum
DESCRIPTION:
URL:https://kasandraforlascruces.com/event/candidate-forum/
LOCATION:Alma D’Arte Charter High School\, 402 W Court Ave\, Las Cruces\, NM\, 88005\, United States
CATEGORIES:Forum
ORGANIZER;CN="NM CAFe":MAILTO:contact@organizenm.org
END:VEVENT
BEGIN:VEVENT
DTSTART;TZID=UTC:20230619T190000
DTEND;TZID=UTC:20230619T210000
DTSTAMP:20260425T131147
CREATED:20230526T192454Z
LAST-MODIFIED:20230526T192712Z
UID:1042-1687201200-1687208400@kasandraforlascruces.com
SUMMARY:Juneteenth Jazz Concert Series Finale
DESCRIPTION:This event is part of the Doña Ana County NAACP – City of Las Cruces – DJ Black – NMSU Men of Color Initiatives present: Juneteenth 2023 Power Weekend. \nFeaturing: Nat Reeves and Friends. \nFor more information\, call (575) 635-7538 or email info@naacpdac.org.
URL:https://kasandraforlascruces.com/event/juneteenth-jazz-concert-series-finale/
LOCATION:Atkinson Recital Hall\, 1075 N. Horseshoe\, Las Cruces\, NM\, 88001\, United States
END:VEVENT
BEGIN:VEVENT
DTSTART;TZID=UTC:20230619T190000
DTEND;TZID=UTC:20230619T210000
DTSTAMP:20260425T131147
CREATED:20230526T192055Z
LAST-MODIFIED:20230526T192856Z
UID:1028-1687201200-1687208400@kasandraforlascruces.com
SUMMARY:Nat Reeves Jazz Clinic and Q&A
DESCRIPTION:This event is part of the Doña Ana County NAACP – City of Las Cruces – DJ Black – NMSU Men of Color Initiatives present: Juneteenth 2023 Power Weekend \nFor more information\, call (575) 635-7538 or email info@naacpdac.org.
URL:https://kasandraforlascruces.com/event/nat-reeves-jazz-clinic-and-qa/
LOCATION:Atkinson Recital Hall\, 1075 N. Horseshoe\, Las Cruces\, NM\, 88001\, United States
END:VEVENT
BEGIN:VEVENT
DTSTART;TZID=UTC:20230619T180000
DTEND;TZID=UTC:20230619T200000
DTSTAMP:20260425T131147
CREATED:20230526T192321Z
LAST-MODIFIED:20230526T192843Z
UID:1038-1687197600-1687204800@kasandraforlascruces.com
SUMMARY:Outdoor Celebration
DESCRIPTION:This event is part of the Doña Ana County NAACP – City of Las Cruces – DJ Black – NMSU Men of Color Initiatives present: Juneteenth 2023 Power Weekend. \n“Together we stand\, together we can” – Men of Color Initiatives \nFor more information\, call (575) 635-7538 or email info@naacpdac.org.
URL:https://kasandraforlascruces.com/event/outdoor-celebration/
LOCATION:Corbett Center Outdoor Stage\, 2795 S Locust St\, Las Cruces\, NM\, 88001\, United States
END:VEVENT
BEGIN:VEVENT
DTSTART;TZID=UTC:20230619T150000
DTEND;TZID=UTC:20230619T163000
DTSTAMP:20260425T131147
CREATED:20230526T191625Z
LAST-MODIFIED:20230526T192831Z
UID:1024-1687186800-1687192200@kasandraforlascruces.com
SUMMARY:African Dance Workshop
DESCRIPTION:This event is part of the Doña Ana County NAACP – City of Las Cruces – DJ Black – NMSU Men of Color Initiatives present: Juneteenth 2023 Power Weekend \nSponsored by: Men of Color Initiatives \nFor more information\, call (575) 635-7538 or email info@naacpdac.org.
URL:https://kasandraforlascruces.com/event/african-dance-workshop/
LOCATION:Rentfrow Hall\, 3161 Williams Ave.\, Las Cruces\, NM\, 88001\, United States
END:VEVENT
BEGIN:VEVENT
DTSTART;TZID=UTC:20230618T190000
DTEND;TZID=UTC:20230618T210000
DTSTAMP:20260425T131147
CREATED:20230526T191355Z
LAST-MODIFIED:20230526T192820Z
UID:1020-1687114800-1687122000@kasandraforlascruces.com
SUMMARY:Juneteenth Jazz Concert Series
DESCRIPTION:This event is part of the Doña Ana County NAACP – City of Las Cruces – DJ Black – NMSU Men of Color Initiatives present: Juneteenth 2023 Power Weekend \nJuneteenth Jazz Concert Series is featuring Jazz Recording Artist\, Nat Reeves. \nFor more information\, call (575) 635-7538 or email info@naacpdac.org.
URL:https://kasandraforlascruces.com/event/juneteenth-jazz-concert-series/
LOCATION:Performing Arts Center – NMSU Campus\, 630 E. University Avenue\, Las Cruces\, NM\, 88001\, United States
END:VEVENT
BEGIN:VEVENT
DTSTART;TZID=UTC:20230617T193000
DTEND;TZID=UTC:20230617T230000
DTSTAMP:20260425T131147
CREATED:20230526T190936Z
LAST-MODIFIED:20230526T192808Z
UID:1018-1687030200-1687042800@kasandraforlascruces.com
SUMMARY:Block Party
DESCRIPTION:This event is part of the Doña Ana County NAACP – City of Las Cruces – DJ Black – NMSU Men of Color Initiatives present: Juneteenth 2023 Power Weekend \nBlock Party is hosted by DJ Black of Hot 103.1 FM. \nFor more information\, call (575) 635-7538 or email info@naacpdac.org.
URL:https://kasandraforlascruces.com/event/block-party/
END:VEVENT
BEGIN:VEVENT
DTSTART;TZID=UTC:20230617T180000
DTEND;TZID=UTC:20230617T200000
DTSTAMP:20260425T131147
CREATED:20230526T190654Z
LAST-MODIFIED:20230526T192757Z
UID:1014-1687024800-1687032000@kasandraforlascruces.com
SUMMARY:NAACP 2023 Juneteenth Banquet
DESCRIPTION:This event is part of the Doña Ana County NAACP – City of Las Cruces – DJ Black – NMSU Men of Color Initiatives present: Juneteenth 2023 Power Weekend \nKeynote Speaker: Senator Harold Pope III \nTickets are $50 a person. \nFor more information\, call (575) 635-7538 or email info@naacpdac.org.
URL:https://kasandraforlascruces.com/event/naacp-2023-juneteenth-banquet/
LOCATION:Las Cruces Convention Center\, 680 E University Ave\, Las Cruces\, NM\, 88001\, United States
END:VEVENT
BEGIN:VEVENT
DTSTART;TZID=UTC:20230616T180000
DTEND;TZID=UTC:20230616T210000
DTSTAMP:20260425T131147
CREATED:20230526T190441Z
LAST-MODIFIED:20230526T192743Z
UID:1009-1686938400-1686949200@kasandraforlascruces.com
SUMMARY:Opening Jazz Concert Series
DESCRIPTION:This event is part of the Doña Ana County NAACP – City of Las Cruces – DJ Black – NMSU Men of Color Initiatives present: Juneteenth 2023 Power Weekend \nFeaturing: The Billy Townes Group \nFor more information\, call (575) 635-7538 or email info@naacpdac.org.
URL:https://kasandraforlascruces.com/event/opening-jazz-concert-series/
LOCATION:Rio Grande Theatre\, 211 N Main Street\, Las Cruces\, NM\, 88001\, United States
END:VEVENT
BEGIN:VEVENT
DTSTART;TZID=UTC:20230616T110000
DTEND;TZID=UTC:20230616T120000
DTSTAMP:20260425T131147
CREATED:20230526T185923Z
LAST-MODIFIED:20230526T192731Z
UID:996-1686913200-1686916800@kasandraforlascruces.com
SUMMARY:History of Juneteenth
DESCRIPTION:This event is part of the Doña Ana County NAACP – City of Las Cruces – DJ Black – NMSU Men of Color Initiatives present: Juneteenth 2023 Power Weekend \nSpeaker: Roy Collins. \nFor more information\, call (575) 635-7538 or email info@naacpdac.org.
URL:https://kasandraforlascruces.com/event/history-of-juneteenth/
LOCATION:Branigan Cultural Center\, 501 N Main Street\, Las Cruces\, NM\, 88001\, United States
END:VEVENT
BEGIN:VEVENT
DTSTART;TZID=UTC:20230604T140000
DTEND;TZID=UTC:20230604T160000
DTSTAMP:20260425T131147
CREATED:20230518T215502Z
LAST-MODIFIED:20230518T215502Z
UID:982-1685887200-1685894400@kasandraforlascruces.com
SUMMARY:Kasandra For Mayor: Meet and Greet
DESCRIPTION:Let’s get to know Kasandra Gandara (current Mayor Pro Tem)! \nSAVE THE DATE: Sunday\, June 4th from 2 P.M. to 4 P.M. View more information HERE. \nPlease RSVP to Pat Aguirre by Friday\, June 2nd. \nYou may use this Act Blue Link to donate.
URL:https://kasandraforlascruces.com/event/kasandra-for-mayor-meet-and-greet/
CATEGORIES:Meet and Greet
ATTACH;FMTTYPE=image/jpeg:https://kasandraforlascruces.com/wp-content/uploads/2023/04/230403-0295-1800px.jpg
END:VEVENT
BEGIN:VEVENT
DTSTART;TZID=UTC:20230520T100000
DTEND;TZID=UTC:20230520T120000
DTSTAMP:20260425T131147
CREATED:20230518T215825Z
LAST-MODIFIED:20230518T215825Z
UID:986-1684576800-1684584000@kasandraforlascruces.com
SUMMARY:NAACP: Monthly Meeting Announcement
DESCRIPTION:
URL:https://kasandraforlascruces.com/event/naacp-monthly-meeting-announcement/
LOCATION:Unitarian Universalist Church\, 2000 S. Solano Dr.\, Las Cruces\, NM\, 88001\, United States
ATTACH;FMTTYPE=image/png:https://kasandraforlascruces.com/wp-content/uploads/2023/05/KG_Event.png
END:VEVENT
BEGIN:VEVENT
DTSTART;VALUE=DATE:20230428
DTEND;VALUE=DATE:20230429
DTSTAMP:20260425T131147
CREATED:20230413T202318Z
LAST-MODIFIED:20230413T202408Z
UID:900-1682640000-1682726399@kasandraforlascruces.com
SUMMARY:Listening Session | District 5
DESCRIPTION:Kasandra Gandara\, City Councilor District 1\, invites you to her Listening To Las Cruces tour as she announces her campaign to be the next mayor of Las Cruces. \nCall 575-323-0456 for location. Hope you will stop by for a visit!
URL:https://kasandraforlascruces.com/event/listening-session-district-5/
CATEGORIES:Listening Sessions
ATTACH;FMTTYPE=image/png:https://kasandraforlascruces.com/wp-content/uploads/2023/04/KG_CalendarImage.png
END:VEVENT
BEGIN:VEVENT
DTSTART;VALUE=DATE:20230427
DTEND;VALUE=DATE:20230428
DTSTAMP:20260425T131147
CREATED:20230412T194748Z
LAST-MODIFIED:20230413T202442Z
UID:703-1682553600-1682639999@kasandraforlascruces.com
SUMMARY:Listening Session | District 1
DESCRIPTION:Kasandra Gandara\, City Councilor District 1\, invites you to her Listening To Las Cruces tour as she announces her campaign to be the next mayor of Las Cruces. \nCall 575-323-0456 for location. Hope you will stop by for a visit!
URL:https://kasandraforlascruces.com/event/listening-session-1/
CATEGORIES:Listening Sessions
ATTACH;FMTTYPE=image/png:https://kasandraforlascruces.com/wp-content/uploads/2023/04/KG_PressKit.png
END:VEVENT
BEGIN:VEVENT
DTSTART;VALUE=DATE:20230426
DTEND;VALUE=DATE:20230427
DTSTAMP:20260425T131147
CREATED:20230424T225313Z
LAST-MODIFIED:20230424T225313Z
UID:967-1682467200-1682553599@kasandraforlascruces.com
SUMMARY:Listening Session | District 2
DESCRIPTION:Kasandra Gandara\, City Councilor District 1\, invites you to her Listening To Las Cruces tour as she announces her campaign to be the next mayor of Las Cruces. \nCall 575-323-0456 for location. Hope you will stop by for a visit!
URL:https://kasandraforlascruces.com/event/listening-session-district-2/
CATEGORIES:Listening Sessions
ATTACH;FMTTYPE=image/jpeg:https://kasandraforlascruces.com/wp-content/uploads/2023/04/230403-0434-1800px.jpg
END:VEVENT
BEGIN:VEVENT
DTSTART;VALUE=DATE:20230420
DTEND;VALUE=DATE:20230421
DTSTAMP:20260425T131147
CREATED:20230413T202137Z
LAST-MODIFIED:20230413T202426Z
UID:898-1681948800-1682035199@kasandraforlascruces.com
SUMMARY:Listening Session | District 4
DESCRIPTION:Kasandra Gandara\, City Councilor District 1\, invites you to her Listening To Las Cruces tour as she announces her campaign to be the next mayor of Las Cruces. \nCall 575-323-0456 for location. Hope you will stop by for a visit!
URL:https://kasandraforlascruces.com/event/listening-session-district-4/
CATEGORIES:Listening Sessions
ATTACH;FMTTYPE=image/png:https://kasandraforlascruces.com/wp-content/uploads/2023/04/KG_Callout.png
END:VEVENT
BEGIN:VEVENT
DTSTART;VALUE=DATE:20230419
DTEND;VALUE=DATE:20230420
DTSTAMP:20260425T131147
CREATED:20230413T202619Z
LAST-MODIFIED:20230413T202619Z
UID:905-1681862400-1681948799@kasandraforlascruces.com
SUMMARY:Listening Session | District 6
DESCRIPTION:Kasandra Gandara\, City Councilor District 1\, invites you to her Listening To Las Cruces tour as she announces her campaign to be the next mayor of Las Cruces. \nCall 575-323-0456 for location. Hope you will stop by for a visit!
URL:https://kasandraforlascruces.com/event/listening-session-district-6/
CATEGORIES:Listening Sessions
ATTACH;FMTTYPE=image/png:https://kasandraforlascruces.com/wp-content/uploads/2023/04/KG_Calendar_2.png
END:VEVENT
END:VCALENDAR